BEGIN:VCALENDAR
VERSION:2.0
PRODID:-//AVG: ATHLÉTISME VISEU GENÈVE - ECPv6.0.13.1//NONSGML v1.0//EN
CALSCALE:GREGORIAN
METHOD:PUBLISH
X-ORIGINAL-URL:https://www.avgeneve.com
X-WR-CALDESC:évènements pour AVG: ATHLÉTISME VISEU GENÈVE
REFRESH-INTERVAL;VALUE=DURATION:PT1H
X-Robots-Tag:noindex
X-PUBLISHED-TTL:PT1H
BEGIN:VTIMEZONE
TZID:Europe/Zurich
BEGIN:DAYLIGHT
TZOFFSETFROM:+0100
TZOFFSETTO:+0200
TZNAME:CEST
DTSTART:20250330T010000
END:DAYLIGHT
BEGIN:STANDARD
TZOFFSETFROM:+0200
TZOFFSETTO:+0100
TZNAME:CET
DTSTART:20251026T010000
END:STANDARD
BEGIN:DAYLIGHT
TZOFFSETFROM:+0100
TZOFFSETTO:+0200
TZNAME:CEST
DTSTART:20260329T010000
END:DAYLIGHT
BEGIN:STANDARD
TZOFFSETFROM:+0200
TZOFFSETTO:+0100
TZNAME:CET
DTSTART:20261025T010000
END:STANDARD
END:VTIMEZONE
BEGIN:VEVENT
DTSTART;VALUE=DATE:20260322
DTEND;VALUE=DATE:20260323
DTSTAMP:20260422T120652
CREATED:20260223T211721Z
LAST-MODIFIED:20260223T211721Z
UID:29317-1774137600-1774223999@www.avgeneve.com
SUMMARY:Tour de Presinge
DESCRIPTION:Le Tour de Presinge se déroulera le 22 mars. \nPlus d’informations ici: https://tourpresinge.ch/ \nDélai d’inscription: 10/03/26
URL:https://www.avgeneve.com/event/tour-de-presinge/
ATTACH;FMTTYPE=image/jpeg:https://www.avgeneve.com/wp-content/uploads/2025/10/IMG_0773-scaled.jpg
END:VEVENT
BEGIN:VEVENT
DTSTART;VALUE=DATE:20260322
DTEND;VALUE=DATE:20260323
DTSTAMP:20260422T120652
CREATED:20260110T161349Z
LAST-MODIFIED:20260110T161349Z
UID:29238-1774137600-1774223999@www.avgeneve.com
SUMMARY:CS de 10km sur route
DESCRIPTION:Les CS de 10km sur route se dérouleront le 22 mars à Oberriet. \nPlus d’informations ici: https://www.rhylauf.ch/index.php/de/ \nDélai d’inscription: 18/03/26
URL:https://www.avgeneve.com/event/cs-de-10km-sur-route/
ATTACH;FMTTYPE=image/jpeg:https://www.avgeneve.com/wp-content/uploads/2025/10/IMG_0768-scaled.jpg
END:VEVENT
BEGIN:VEVENT
DTSTART;VALUE=DATE:20260308
DTEND;VALUE=DATE:20260309
DTSTAMP:20260422T120652
CREATED:20260223T211246Z
LAST-MODIFIED:20260223T211948Z
UID:29314-1772928000-1773014399@www.avgeneve.com
SUMMARY:CS de Cross (obligatoire pour les u15)
DESCRIPTION:Les CS de Cross auront lieu le 8 mars à Langenthal. \nPlus d’informations ici:https://cross2026.ch/Startseite/ \nDélai d’inscription: 01/03/26
URL:https://www.avgeneve.com/event/cs-de-cross-3/
ATTACH;FMTTYPE=image/jpeg:https://www.avgeneve.com/wp-content/uploads/2025/10/IMG_0861-scaled.jpg
END:VEVENT
BEGIN:VEVENT
DTSTART;VALUE=DATE:20260301
DTEND;VALUE=DATE:20260302
DTSTAMP:20260422T120652
CREATED:20260110T160517Z
LAST-MODIFIED:20260110T160517Z
UID:29232-1772323200-1772409599@www.avgeneve.com
SUMMARY:10km de Payerne
DESCRIPTION:Les 10km de Payerne se dérouleront le 1 mars. \nPlus d’informations ici: https://10kmpayerne.ch/ \nDélai d’inscription:
URL:https://www.avgeneve.com/event/10km-de-payerne/
ATTACH;FMTTYPE=image/jpeg:https://www.avgeneve.com/wp-content/uploads/2025/10/IMG_0616-scaled.jpg
END:VEVENT
BEGIN:VEVENT
DTSTART;VALUE=DATE:20260228
DTEND;VALUE=DATE:20260301
DTSTAMP:20260422T120652
CREATED:20260110T155929Z
LAST-MODIFIED:20260110T155929Z
UID:29228-1772236800-1772323199@www.avgeneve.com
SUMMARY:Cross de Lucerne
DESCRIPTION:Le Cross de Lucerne aura lieu le 28 février. \nPlus d’informations ici: https://www.luzernercross.ch/register-now/ \nDélai d’inscription:
URL:https://www.avgeneve.com/event/cross-de-lucerne-2/
ATTACH;FMTTYPE=image/jpeg:https://www.avgeneve.com/wp-content/uploads/2025/10/IMG_0772-scaled.jpg
END:VEVENT
BEGIN:VEVENT
DTSTART;VALUE=DATE:20260221
DTEND;VALUE=DATE:20260223
DTSTAMP:20260422T120652
CREATED:20260110T155408Z
LAST-MODIFIED:20260110T155408Z
UID:29225-1771632000-1771804799@www.avgeneve.com
SUMMARY:CS en Salle
DESCRIPTION:Le CS en Salle aura lieu du 21 au 22 février à Macolin \nPlus d’informations ici: https://www.swiss-athletics.ch/fr/cs-jeunesse-en-salle/ \nDélai d’inscription: 10.01.26
URL:https://www.avgeneve.com/event/cs-en-salle/
ATTACH;FMTTYPE=image/jpeg:https://www.avgeneve.com/wp-content/uploads/2026/01/hallenmeeting_bba_2020_atx.jpg
END:VEVENT
BEGIN:VEVENT
DTSTART;VALUE=DATE:20260208
DTEND;VALUE=DATE:20260209
DTSTAMP:20260422T120652
CREATED:20260110T155055Z
LAST-MODIFIED:20260110T155055Z
UID:29222-1770508800-1770595199@www.avgeneve.com
SUMMARY:Coupe d'Europe de Cross
DESCRIPTION:La Coupe d’Europe de Cross se déroulera le 8 février à Albufeira au Portugal. \nPlus d’informations ici: https://www.european-athletics.com/competitions/eccc-cross-country/overview \n 
URL:https://www.avgeneve.com/event/coupe-deurope-de-cross/
ATTACH;FMTTYPE=image/jpeg:https://www.avgeneve.com/wp-content/uploads/2025/10/IMG_0574-scaled.jpg
END:VEVENT
BEGIN:VEVENT
DTSTART;VALUE=DATE:20260207
DTEND;VALUE=DATE:20260209
DTSTAMP:20260422T120652
CREATED:20260110T154245Z
LAST-MODIFIED:20260110T154245Z
UID:29219-1770422400-1770595199@www.avgeneve.com
SUMMARY:Meeting de Macolin
DESCRIPTION:Ce Meeting de Macolin se déroulera du 7 au 8 février 2026. \nPlus d’informations ici: https://www.la-bern.ch/clubdesk/fileservlet?type=file&id=1001066&s=djEtJeoArKQOucyaLgvQiUmRtbl86766_UhC22bpEeGi6Jo= \nDélai d’inscription: 02.02.26
URL:https://www.avgeneve.com/event/meeting-de-macolin-4/
ATTACH;FMTTYPE=image/jpeg:https://www.avgeneve.com/wp-content/uploads/2026/01/mehrkampf_frauen_magglingen_2023_huerden_atx-scaled-e1706698705825-1024x768-1.jpg
END:VEVENT
BEGIN:VEVENT
DTSTART;VALUE=DATE:20260207
DTEND;VALUE=DATE:20260208
DTSTAMP:20260422T120652
CREATED:20260110T153905Z
LAST-MODIFIED:20260110T153905Z
UID:29215-1770422400-1770508799@www.avgeneve.com
SUMMARY:CG de Cross
DESCRIPTION:Le CG de Cross aura lieu le 7 février à Collonge-Bellerive. \nPlus d’informations ici: https://running-cb.com/evenement/ \nDélai d’inscription: 20.01.26
URL:https://www.avgeneve.com/event/cg-de-cross-2/
ATTACH;FMTTYPE=image/jpeg:https://www.avgeneve.com/wp-content/uploads/2026/01/Cross-SM_Regensdorf_2022_atx_1-1024x768-1.jpg
END:VEVENT
BEGIN:VEVENT
DTSTART;VALUE=DATE:20260131
DTEND;VALUE=DATE:20260202
DTSTAMP:20260422T120652
CREATED:20260110T153136Z
LAST-MODIFIED:20260110T153136Z
UID:29211-1769817600-1769990399@www.avgeneve.com
SUMMARY:Meeting de Macolin
DESCRIPTION:Le Meeting de Macolin se déroulera du 31 janvier au 1 février 2026. \nPlus d’informations ici: https://biel-bienne-athletics.ch/de/Events/hallenmeeting/ \nDélai d’inscription: 25.01.26
URL:https://www.avgeneve.com/event/meeting-de-macolin-3/
ATTACH;FMTTYPE=image/jpeg:https://www.avgeneve.com/wp-content/uploads/2026/01/hallenmeeting_bba_2020_atx.jpg
END:VEVENT
BEGIN:VEVENT
DTSTART;VALUE=DATE:20260131
DTEND;VALUE=DATE:20260201
DTSTAMP:20260422T120652
CREATED:20260110T152705Z
LAST-MODIFIED:20260110T152705Z
UID:29208-1769817600-1769903999@www.avgeneve.com
SUMMARY:Cross de Lausanne
DESCRIPTION:Le Cross de Lausanne aura lieu le 31 janvier. \nPlus d’informations ici: https://www.cross-lausanne.ch/ \nDélai d’inscription: 29.01.26
URL:https://www.avgeneve.com/event/cross-de-lausanne-3/
ATTACH;FMTTYPE=image/jpeg:https://www.avgeneve.com/wp-content/uploads/2025/10/IMG_1034-scaled.jpg
END:VEVENT
BEGIN:VEVENT
DTSTART;VALUE=DATE:20260131
DTEND;VALUE=DATE:20260201
DTSTAMP:20260422T120652
CREATED:20260110T151856Z
LAST-MODIFIED:20260110T151856Z
UID:29202-1769817600-1769903999@www.avgeneve.com
SUMMARY:UBS KIDS CUP Payerne
DESCRIPTION:L’ UBS KIDS CUP TEAM se déroulera le 31 janvier à Payerne. \nPlus d’informations ici: https://www.ubs-kidscup.ch/fr/ubs-kids-cup-team/inscription/payerne \nDélai d’inscription: 18.01.26
URL:https://www.avgeneve.com/event/ubs-kids-cup-payerne/
ATTACH;FMTTYPE=image/jpeg:https://www.avgeneve.com/wp-content/uploads/2025/10/IMG_1110-scaled.jpg
END:VEVENT
BEGIN:VEVENT
DTSTART;VALUE=DATE:20260124
DTEND;VALUE=DATE:20260125
DTSTAMP:20260422T120652
CREATED:20260110T152241Z
LAST-MODIFIED:20260110T152241Z
UID:29205-1769212800-1769299199@www.avgeneve.com
SUMMARY:Cross de Berne
DESCRIPTION:Le Cross de Berne se déroulera le 24 janvier au Grossen Allmend de Berne. \nPlus d’informations ici: https://stb-la.ch/stb-cross/ \nDélai d’inscription: 19.01.26
URL:https://www.avgeneve.com/event/cross-de-berne/
ATTACH;FMTTYPE=image/jpeg:https://www.avgeneve.com/wp-content/uploads/2025/10/IMG_0881-scaled.jpg
END:VEVENT
BEGIN:VEVENT
DTSTART;VALUE=DATE:20251213
DTEND;VALUE=DATE:20251214
DTSTAMP:20260422T120652
CREATED:20250920T080139Z
LAST-MODIFIED:20250920T082049Z
UID:28595-1765584000-1765670399@www.avgeneve.com
SUMMARY:Course de Noël Sion (Coachs présents)
DESCRIPTION:La Course de Noël Sion aura lieu le 13 décembre à Sion. \nPlus d’informations ici: https://www.coursedenoel.ch/ \nDélai d’inscription: pas encore de délai
URL:https://www.avgeneve.com/event/course-de-noel-sion/
ATTACH;FMTTYPE=image/jpeg:https://www.avgeneve.com/wp-content/uploads/2025/07/2025-06-visana-sprint-1.jpg
END:VEVENT
BEGIN:VEVENT
DTSTART;VALUE=DATE:20251206
DTEND;VALUE=DATE:20251208
DTSTAMP:20260422T120652
CREATED:20250920T075514Z
LAST-MODIFIED:20250920T082034Z
UID:28591-1764979200-1765151999@www.avgeneve.com
SUMMARY:Course de l'Escalade (Coachs présents)
DESCRIPTION:La Course de l’Escalade aura lieu du 6 au 7 décembre à Genève. \nPlus d’informations ici: https://escalade.ch/ \nDélai d’inscription: 16.11.2025
URL:https://www.avgeneve.com/event/course-de-lescalade/
ATTACH;FMTTYPE=image/jpeg:https://www.avgeneve.com/wp-content/uploads/2025/09/DSC_0190-scaled-1.jpg
END:VEVENT
BEGIN:VEVENT
DTSTART;VALUE=DATE:20251130
DTEND;VALUE=DATE:20251201
DTSTAMP:20260422T120652
CREATED:20250913T145453Z
LAST-MODIFIED:20250920T080423Z
UID:28572-1764460800-1764547199@www.avgeneve.com
SUMMARY:Cross Regesdorf
DESCRIPTION:Le Cross Regesdorf se déroulera le diamanche 30 novembre. \nPlus d’informations ici: https://lcr.ch/ \n 
URL:https://www.avgeneve.com/event/cross-regesdorf/
ATTACH;FMTTYPE=image/jpeg:https://www.avgeneve.com/wp-content/uploads/2025/09/athlete-a-angle-eleve-sur-la-ligne-de-depart-scaled.jpg
END:VEVENT
BEGIN:VEVENT
DTSTART;VALUE=DATE:20251115
DTEND;VALUE=DATE:20251116
DTSTAMP:20260422T120652
CREATED:20250920T074944Z
LAST-MODIFIED:20250920T082005Z
UID:28587-1763164800-1763251199@www.avgeneve.com
SUMMARY:Corrida Bulloise (Coachs présents)
DESCRIPTION:La Corrida Bulloise se déroulera le 15 novembre à Bulle. \nPlus d’informations ici: https://www.corrida-bulloise.ch/home \nDélai d’inscription: 9.11.2025
URL:https://www.avgeneve.com/event/corrida-bulloise-2/
ATTACH;FMTTYPE=image/jpeg:https://www.avgeneve.com/wp-content/uploads/2025/09/IMG_0465.jpg
END:VEVENT
BEGIN:VEVENT
DTSTART;VALUE=DATE:20251115
DTEND;VALUE=DATE:20251117
DTSTAMP:20260422T120652
CREATED:20250913T144813Z
LAST-MODIFIED:20250913T144813Z
UID:28532-1763164800-1763337599@www.avgeneve.com
SUMMARY:Cross Pforzheim
DESCRIPTION:Le Cross Pforzheim se déroulera le samedi 15 novembre à Pforhheim. \nPlus d’informations ici:https://sparkassencross.de/anmeldung/ \n 
URL:https://www.avgeneve.com/event/cross-pforzheim/
ATTACH;FMTTYPE=image/jpeg:https://www.avgeneve.com/wp-content/uploads/2025/09/DSC_0028-scaled.jpg
END:VEVENT
BEGIN:VEVENT
DTSTART;VALUE=DATE:20251108
DTEND;VALUE=DATE:20251109
DTSTAMP:20260422T120652
CREATED:20250920T074341Z
LAST-MODIFIED:20250920T082012Z
UID:28583-1762560000-1762646399@www.avgeneve.com
SUMMARY:Corrida d'Octodure
DESCRIPTION:La Corrida d’octodure se déroulera le samedi 8 novembre à Martigny. \nPlus d’informations ici: https://www.corridadoctodure.ch/ \nDélai d’inscription: 5.11.25
URL:https://www.avgeneve.com/event/corrida-doctodure/
ATTACH;FMTTYPE=image/jpeg:https://www.avgeneve.com/wp-content/uploads/2025/09/DSC3589-2048x1365-1.jpg
END:VEVENT
BEGIN:VEVENT
DTSTART;VALUE=DATE:20251101
DTEND;VALUE=DATE:20251102
DTSTAMP:20260422T120652
CREATED:20250910T141238Z
LAST-MODIFIED:20250920T081817Z
UID:28528-1761955200-1762041599@www.avgeneve.com
SUMMARY:Night Run Morges
DESCRIPTION:Le Night Run Morges se déroulera le samedi 1 novembre. \nPlus d’informations ici: https://onreg.datasport.com/fr/nightrun-morges-2025 \n 
URL:https://www.avgeneve.com/event/night-run-morges/
ATTACH;FMTTYPE=image/jpeg:https://www.avgeneve.com/wp-content/uploads/2025/09/athlete-a-angle-eleve-sur-la-ligne-de-depart-scaled.jpg
END:VEVENT
BEGIN:VEVENT
DTSTART;VALUE=DATE:20251012
DTEND;VALUE=DATE:20251013
DTSTAMP:20260422T120652
CREATED:20250913T143211Z
LAST-MODIFIED:20250920T081951Z
UID:28559-1760227200-1760313599@www.avgeneve.com
SUMMARY:Cross pour Tous (Coachs présents)
DESCRIPTION:Le Cross pour Tous 2025 aura lieu le dimanche 12 octobre au Bout-du-Monde. \nPlus d’informations ici: https://www.avgeneve.com/cross-pour-tous/ \n 
URL:https://www.avgeneve.com/event/cross-pour-tous-2/
ATTACH;FMTTYPE=image/jpeg:https://www.avgeneve.com/wp-content/uploads/2025/09/DSC_0005-scaled.jpg
END:VEVENT
BEGIN:VEVENT
DTSTART;VALUE=DATE:20251005
DTEND;VALUE=DATE:20251006
DTSTAMP:20260422T120652
CREATED:20250721T163408Z
LAST-MODIFIED:20250920T081935Z
UID:28482-1759622400-1759708799@www.avgeneve.com
SUMMARY:La Chavanaise (Coachs présents)
DESCRIPTION:La Chavanaise 2025 aura lieu le dimanche 5 octobre à Chavannes-de-Bogis. \nPlus d’informations ici: https://www.avgeneve.com/la-chavannaise/  \nDélai d’inscription: 1.10.25
URL:https://www.avgeneve.com/event/la-chavanaise-2/
ATTACH;FMTTYPE=image/jpeg:https://www.avgeneve.com/wp-content/uploads/2025/07/La-Chavannaise-2025.jpg
END:VEVENT
BEGIN:VEVENT
DTSTART;VALUE=DATE:20250913
DTEND;VALUE=DATE:20250915
DTSTAMP:20260422T120652
CREATED:20250721T170620Z
LAST-MODIFIED:20250721T171021Z
UID:28500-1757721600-1757894399@www.avgeneve.com
SUMMARY:Championnats Suisses U16/U18
DESCRIPTION:Les Championnats Suisses U16/U18 auront lieu du 13 au 14 septembre à Zofingue. \nPlus d’informations ici: https://swiss-athletics.ch/wp-content/uploads/SM-U16U18-2025_Ausschreibung_f.pdf \nDélai d’inscription: 26.08.25
URL:https://www.avgeneve.com/event/championnats-suisses-u16-u18/
ATTACH;FMTTYPE=image/jpeg:https://www.avgeneve.com/wp-content/uploads/2025/07/blumenthal_jana_frauenfeld_sm_nw_2023_atx-scaled-e1694297647126-1024x768-1.jpg
END:VEVENT
BEGIN:VEVENT
DTSTART;VALUE=DATE:20250912
DTEND;VALUE=DATE:20250915
DTSTAMP:20260422T120652
CREATED:20250721T171001Z
LAST-MODIFIED:20250721T171059Z
UID:28504-1757635200-1757894399@www.avgeneve.com
SUMMARY:Championnats Suisses U20/U23
DESCRIPTION:Les Championnats Suisses U20/U23 auront lieu du 12 au 14 septembre à Aarau. \nPlus d’informations ici: https://swiss-athletics.ch/wp-content/uploads/SM-U20U23-2025_Ausschreibung_f.pdf \nDélai d’inscription: 26.08.25
URL:https://www.avgeneve.com/event/championnats-suisses-u20-u23-2/
ATTACH;FMTTYPE=image/jpeg:https://www.avgeneve.com/wp-content/uploads/2025/07/3V2A5549-600x400-1.jpg
END:VEVENT
BEGIN:VEVENT
DTSTART;VALUE=DATE:20250831
DTEND;VALUE=DATE:20250901
DTSTAMP:20260422T120652
CREATED:20250721T165626Z
LAST-MODIFIED:20250721T165626Z
UID:28496-1756598400-1756684799@www.avgeneve.com
SUMMARY:Championnats Suisses Relais
DESCRIPTION:Les Championnats Suisses Relais auront lieu le 31 août à Nottwil. \nPlus d’informations ici: https://swiss-athletics.ch/wp-content/uploads/SM-Staffel_2025_Ausschreibung_f.pdf \nDélai d’inscription: 12.08.25
URL:https://www.avgeneve.com/event/championnats-suisses-relais/
ATTACH;FMTTYPE=image/jpeg:https://www.avgeneve.com/wp-content/uploads/2025/07/FM9I2479-1.jpg
END:VEVENT
BEGIN:VEVENT
DTSTART;VALUE=DATE:20250823
DTEND;VALUE=DATE:20250825
DTSTAMP:20260422T120652
CREATED:20250721T164048Z
LAST-MODIFIED:20250721T164048Z
UID:28486-1755907200-1756079999@www.avgeneve.com
SUMMARY:Championnats Suisses Elites
DESCRIPTION:Les Championnats Suisses Elites auront lieu du 23 au 24 août à Frauenfeld. \nPlus d’informations ici: https://www.sm25.ch/fr/ \nDélai d’inscription: 6.08.25
URL:https://www.avgeneve.com/event/championnats-suisses-elites/
ATTACH;FMTTYPE=image/jpeg:https://www.avgeneve.com/wp-content/uploads/2025/07/csm_20240628_Winterthur_475_RB_68a0beec1d.jpg
END:VEVENT
BEGIN:VEVENT
DTSTART;VALUE=DATE:20250809
DTEND;VALUE=DATE:20250810
DTSTAMP:20260422T120652
CREATED:20250721T165034Z
LAST-MODIFIED:20250721T165139Z
UID:28490-1754697600-1754783999@www.avgeneve.com
SUMMARY:Championnats Romands
DESCRIPTION:Les Championnats Romands se dérouleront le 9 août à Yverdon. \nPlus d’informations ici: https://stadegeneve.ch/wp-content/uploads/2025/06/2025-Horaire-prov-CR-Open-10-aout.pdf \nDélai d’inscription: 5.08.25
URL:https://www.avgeneve.com/event/championnats-romands/
ATTACH;FMTTYPE=image/jpeg:https://www.avgeneve.com/wp-content/uploads/2025/07/2025-06-visana-sprint-1.jpg
END:VEVENT
BEGIN:VEVENT
DTSTART;VALUE=DATE:20250621
DTEND;VALUE=DATE:20250623
DTSTAMP:20260422T120652
CREATED:20250512T182724Z
LAST-MODIFIED:20250607T154857Z
UID:28338-1750464000-1750636799@www.avgeneve.com
SUMMARY:Championnats Régionaux Ouest Düdingen
DESCRIPTION:Les Championnats Régionaux Ouest Düdingen se dérouleront du 21 au 22 juin à Düdingen. \nPlus d’informations ici: https://tsvd.ch/wp-content/uploads/2025/05/ZeitplanRM25Prov.pdf \nDélai d’inscription: 3.06.25
URL:https://www.avgeneve.com/event/championnats-regionaux-ouest-dudingen/
ATTACH;FMTTYPE=image/jpeg:https://www.avgeneve.com/wp-content/uploads/2025/05/IMG_20160618_195603.jpg
END:VEVENT
BEGIN:VEVENT
DTSTART;VALUE=DATE:20250611
DTEND;VALUE=DATE:20250612
DTSTAMP:20260422T120652
CREATED:20250419T154608Z
LAST-MODIFIED:20250419T154608Z
UID:27887-1749600000-1749686399@www.avgeneve.com
SUMMARY:Finale GE Visana Sprint
DESCRIPTION:La Finale GE Visana Sprint aura lieu le 11 juin au stade du Bout-du-Monde. \nPlus d’informations ici: https://stadegeneve.ch/wp-content/uploads/2025/02/Horaire-provisoire-1-1.pdf \nDélai d’inscription: 4.06.25
URL:https://www.avgeneve.com/event/finale-ge-visana-sprint/
ATTACH;FMTTYPE=image/jpeg:https://www.avgeneve.com/wp-content/uploads/2025/04/images.jpg
END:VEVENT
BEGIN:VEVENT
DTSTART;VALUE=DATE:20250607
DTEND;VALUE=DATE:20250609
DTSTAMP:20260422T120652
CREATED:20250419T154020Z
LAST-MODIFIED:20250607T154626Z
UID:27883-1749254400-1749427199@www.avgeneve.com
SUMMARY:Championnats Genevois
DESCRIPTION:Les Championnats Genevois se dérouleront du 7 au 8 juin au stade du Bout-du-Monde. \nPlus d’informations ici: https://stadegeneve.ch/wp-content/uploads/2025/05/Championnats-Genevois-2025-Horaire-definitif-et-reglement.pdf \nDélai d’inscription: 24.05.25
URL:https://www.avgeneve.com/event/championnats-genevois-2/
ATTACH;FMTTYPE=image/jpeg:https://www.avgeneve.com/wp-content/uploads/2025/04/2022-04-06-CH-GENEVOIS.jpg
END:VEVENT
END:VCALENDAR