BEGIN:VCALENDAR
VERSION:2.0
PRODID:-//AVG: ATHLÉTISME VISEU GENÈVE - ECPv6.0.13.1//NONSGML v1.0//EN
CALSCALE:GREGORIAN
METHOD:PUBLISH
X-WR-CALNAME:AVG: ATHLÉTISME VISEU GENÈVE
X-ORIGINAL-URL:https://www.avgeneve.com
X-WR-CALDESC:évènements pour AVG: ATHLÉTISME VISEU GENÈVE
REFRESH-INTERVAL;VALUE=DURATION:PT1H
X-Robots-Tag:noindex
X-PUBLISHED-TTL:PT1H
BEGIN:VTIMEZONE
TZID:Europe/Zurich
BEGIN:DAYLIGHT
TZOFFSETFROM:+0100
TZOFFSETTO:+0200
TZNAME:CEST
DTSTART:20250330T010000
END:DAYLIGHT
BEGIN:STANDARD
TZOFFSETFROM:+0200
TZOFFSETTO:+0100
TZNAME:CET
DTSTART:20251026T010000
END:STANDARD
END:VTIMEZONE
BEGIN:VEVENT
DTSTART;VALUE=DATE:20250501
DTEND;VALUE=DATE:20250502
DTSTAMP:20260421T145012
CREATED:20250119T201042Z
LAST-MODIFIED:20250119T201042Z
UID:27409-1746057600-1746143999@www.avgeneve.com
SUMMARY:Meeting Barbara Busser
DESCRIPTION:Le Meeting aura lieu le 1 mai au Bout-du-monde. \nPlus d’informations ici: https://stadegeneve.ch/wp-content/uploads/2024/11/Horaire-Meeting-du-1er-mai-2024.xls-Mode-de-compatibilite.pdf
URL:https://www.avgeneve.com/event/meeting-barbara-busser/
ATTACH;FMTTYPE=image/jpeg:https://www.avgeneve.com/wp-content/uploads/2025/01/telechargement-4.jpg
END:VEVENT
BEGIN:VEVENT
DTSTART;VALUE=DATE:20250510
DTEND;VALUE=DATE:20250511
DTSTAMP:20260421T145012
CREATED:20250415T065422Z
LAST-MODIFIED:20250415T065422Z
UID:27833-1746835200-1746921599@www.avgeneve.com
SUMMARY:Meeting de Chailly-sur-Montreux
DESCRIPTION:Le Meeting de Chailly-sur-Montreux aura lieu le 10 mai au stade de la Saussaz. \nPlus d’informations ici:https://swiss-athletics.ch/fr/calendrier-competitions-nouveau/ \nDélai d’inscription: 08.05.2025
URL:https://www.avgeneve.com/event/meeting-de-chailly-sur-montreux/
ATTACH;FMTTYPE=image/jpeg:https://www.avgeneve.com/wp-content/uploads/2025/04/sft_saussaz_athl_06.jpg
END:VEVENT
BEGIN:VEVENT
DTSTART;VALUE=DATE:20250510
DTEND;VALUE=DATE:20250511
DTSTAMP:20260421T145012
CREATED:20250415T184232Z
LAST-MODIFIED:20250415T184232Z
UID:27838-1746835200-1746921599@www.avgeneve.com
SUMMARY:Eliminatoire UBS Kids Cup
DESCRIPTION:L’éliminatoire UBS Kids Cup se déroulera le 10 mai au Stade d’athlétisme des Evaux. \nPlus d’informations ici: https://www.ubs-kidscup.ch/fr/pour-les-participants/possibilites-de-start/eliminatoires-locales-ouvertes \nDélai d’inscription: 01.05.2025
URL:https://www.avgeneve.com/event/eliminatoire-ubs-kids-cup-2/
ATTACH;FMTTYPE=image/jpeg:https://www.avgeneve.com/wp-content/uploads/2025/04/csm_20190831_00772_EZ2_5600_5f67b5640d.jpg
END:VEVENT
BEGIN:VEVENT
DTSTART;VALUE=DATE:20250517
DTEND;VALUE=DATE:20250518
DTSTAMP:20260421T145012
CREATED:20250415T185538Z
LAST-MODIFIED:20250510T145901Z
UID:27842-1747440000-1747526399@www.avgeneve.com
SUMMARY:Meeting CAG
DESCRIPTION:Le Meeting du CAG se déroulera le 17 mai au Stade du Bout-du-Monde. \nPlus d’informations ici:  https://stadegeneve.ch/wp-content/uploads/2025/05/Ouverture-17052025-PROVISOIRE.xls-Mode-de-compatibilite.pdf \nDélai d’inscription:13 mai
URL:https://www.avgeneve.com/event/meeting-cag/
ATTACH;FMTTYPE=image/jpeg:https://www.avgeneve.com/wp-content/uploads/2025/04/course101-1024x683-1.jpg
END:VEVENT
BEGIN:VEVENT
DTSTART;VALUE=DATE:20250517
DTEND;VALUE=DATE:20250518
DTSTAMP:20260421T145012
CREATED:20250416T173328Z
LAST-MODIFIED:20250416T173423Z
UID:27847-1747440000-1747526399@www.avgeneve.com
SUMMARY:Meeting Lausanne Pontaise
DESCRIPTION:Ce Meeting se déroulera le 17 mai au Stade de la Pontaise à Lausanne. \nPlus d’informations ici:  https://www.ls-athletisme.ch/luginbuhl/ \nDélai d’inscription: 13.05.25
URL:https://www.avgeneve.com/event/meeting-lausanne-pontaise/
ATTACH;FMTTYPE=image/jpeg:https://www.avgeneve.com/wp-content/uploads/2025/04/10686_stade_lausanne.jpg
END:VEVENT
BEGIN:VEVENT
DTSTART;VALUE=DATE:20250517
DTEND;VALUE=DATE:20250518
DTSTAMP:20260421T145012
CREATED:20250416T175219Z
LAST-MODIFIED:20250510T150301Z
UID:27853-1747440000-1747526399@www.avgeneve.com
SUMMARY:Eliminatoire Visana Sprint
DESCRIPTION:L’Eliminatoire Visana Sprint aura lieu le 17 mai au Bout-du-Monde. \nPlus d’informations ici: https://stadegeneve.ch/wp-content/uploads/2025/05/Visana-Sprint-17052025-provisoire.xls-Mode-de-compatibilite.pdf \nDélai d’inscription: 13 mai
URL:https://www.avgeneve.com/event/eliminatoire-visana-sprint-2/
ATTACH;FMTTYPE=image/jpeg:https://www.avgeneve.com/wp-content/uploads/2025/04/images.jpg
END:VEVENT
BEGIN:VEVENT
DTSTART;VALUE=DATE:20250518
DTEND;VALUE=DATE:20250519
DTSTAMP:20260421T145012
CREATED:20250416T175806Z
LAST-MODIFIED:20250416T182011Z
UID:27858-1747526400-1747612799@www.avgeneve.com
SUMMARY:Match des 6 Cantons
DESCRIPTION:Le Match des 6 Cantons aura lieu le 18 mai à Alle. \nPlus d’informations ici: https://www.fsgalle.ch/fr/activites/match-des-6-cantons-romands \nDélai d’inscription: 11.05.25
URL:https://www.avgeneve.com/event/match-des-6-cantons-2/
ATTACH;FMTTYPE=image/jpeg:https://www.avgeneve.com/wp-content/uploads/2025/04/IMG_8605-1300x800-1.jpg
END:VEVENT
BEGIN:VEVENT
DTSTART;VALUE=DATE:20250524
DTEND;VALUE=DATE:20250525
DTSTAMP:20260421T145012
CREATED:20250416T180416Z
LAST-MODIFIED:20250416T180416Z
UID:27862-1748044800-1748131199@www.avgeneve.com
SUMMARY:Eliminatoire UBS Kids Cup
DESCRIPTION:L’Eliminatoire UBS Kids Cup aura lieu le 24 mai à Meyrin. \nPlus d’informations ici: https://www.ubs-kidscup.ch/fr/pour-les-participants/possibilites-de-start/eliminatoires-locales-ouvertes \nDélai d’inscription: 16.05.25
URL:https://www.avgeneve.com/event/eliminatoire-ubs-kids-cup-3/
ATTACH;FMTTYPE=image/jpeg:https://www.avgeneve.com/wp-content/uploads/2025/04/maxresdefault.jpg
END:VEVENT
BEGIN:VEVENT
DTSTART;VALUE=DATE:20250529
DTEND;VALUE=DATE:20250530
DTSTAMP:20260421T145012
CREATED:20250416T181709Z
LAST-MODIFIED:20250419T151440Z
UID:27865-1748476800-1748563199@www.avgeneve.com
SUMMARY:Meeting de l'Ascencion Langenthal
DESCRIPTION:Le Meeting se déroulera le 29 mai à Langenthal. \nPlus d’informations ici: https://lvl.ch/images/resultate/Ausschreibungen/2025/provZeitplanAuffahrts-Meeting2025.pdf \nDélai d’inscription: 24.05.25
URL:https://www.avgeneve.com/event/meeting-de-lascencion-langenthal/
ATTACH;FMTTYPE=image/jpeg:https://www.avgeneve.com/wp-content/uploads/2025/04/joseph_jason_bellinzona_sm_2023_1_atx-scaled-e1715172097385-1024x768-1.jpg
END:VEVENT
BEGIN:VEVENT
DTSTART;VALUE=DATE:20250531
DTEND;VALUE=DATE:20250601
DTSTAMP:20260421T145012
CREATED:20250416T182539Z
LAST-MODIFIED:20250416T182539Z
UID:27870-1748649600-1748735999@www.avgeneve.com
SUMMARY:Meeting de sauts Berne Wankdorf
DESCRIPTION:Le Meeting se déroulera le 31 mai à Langenthal. \nPlus d’informations ici:  https://www.la-bern.ch/sprungmeeting/2025 \nDélai d’inscription: 20.05.25
URL:https://www.avgeneve.com/event/meeting-de-sauts-berne-wankdorf/
ATTACH;FMTTYPE=image/png:https://www.avgeneve.com/wp-content/uploads/2025/04/02bb3019-fd71-43e5-8d81-fe2dc2f291c7-lg.png
END:VEVENT
BEGIN:VEVENT
DTSTART;VALUE=DATE:20250531
DTEND;VALUE=DATE:20250601
DTSTAMP:20260421T145012
CREATED:20250419T151215Z
LAST-MODIFIED:20250419T151631Z
UID:27874-1748649600-1748735999@www.avgeneve.com
SUMMARY:Meeting de Javelot
DESCRIPTION:Le Meeting de Javelot aura lieu le 31 mai à Martigny. \nPlus d’informations ici: https://swiss-athletics.ch/fr/calendrier-competitions-nouveau/ \nDélai d’inscription: 25.05.25
URL:https://www.avgeneve.com/event/meeting-de-javelot/
ATTACH;FMTTYPE=image/jpeg:https://www.avgeneve.com/wp-content/uploads/2025/04/ehammer_simon_sm_mk_basel_2023_speer_atx-scaled-e1687119594185-1024x768-1.jpg
END:VEVENT
END:VCALENDAR